BEGIN:VCALENDAR
VERSION:2.0
PRODID:-//Alliance des cadres de l&#039;État - ECPv6.15.18//NONSGML v1.0//EN
CALSCALE:GREGORIAN
METHOD:PUBLISH
X-ORIGINAL-URL:https://www.alliancedescadres.com
X-WR-CALDESC:Événements pour Alliance des cadres de l&#039;État
REFRESH-INTERVAL;VALUE=DURATION:PT1H
X-Robots-Tag:noindex
X-PUBLISHED-TTL:PT1H
BEGIN:VTIMEZONE
TZID:America/New_York
BEGIN:DAYLIGHT
TZOFFSETFROM:-0500
TZOFFSETTO:-0400
TZNAME:EDT
DTSTART:20250309T070000
END:DAYLIGHT
BEGIN:STANDARD
TZOFFSETFROM:-0400
TZOFFSETTO:-0500
TZNAME:EST
DTSTART:20251102T060000
END:STANDARD
BEGIN:DAYLIGHT
TZOFFSETFROM:-0500
TZOFFSETTO:-0400
TZNAME:EDT
DTSTART:20260308T070000
END:DAYLIGHT
BEGIN:STANDARD
TZOFFSETFROM:-0400
TZOFFSETTO:-0500
TZNAME:EST
DTSTART:20261101T060000
END:STANDARD
BEGIN:DAYLIGHT
TZOFFSETFROM:-0500
TZOFFSETTO:-0400
TZNAME:EDT
DTSTART:20270314T070000
END:DAYLIGHT
BEGIN:STANDARD
TZOFFSETFROM:-0400
TZOFFSETTO:-0500
TZNAME:EST
DTSTART:20271107T060000
END:STANDARD
END:VTIMEZONE
BEGIN:VEVENT
DTSTART;TZID=America/New_York:20260604T121500
DTEND;TZID=America/New_York:20260604T131500
DTSTAMP:20260421T101202
CREATED:20260313T161729Z
LAST-MODIFIED:20260313T161729Z
UID:10000663-1780575300-1780578900@www.alliancedescadres.com
SUMMARY:Régime de retraite « Le RRPE » - 4 juin 2026
DESCRIPTION:Présenté en collaboration avec Beneva \nDESCRIPTION\nVous envisagez de prendre votre retraite à court ou moyen terme? Bénéficiez de l’expertise d’un conseiller spécialisé pour vous y préparer adéquatement en démystifiant la pyramide de la planification financière\, en voyant quelles sont les sources de revenus à la retraite et en apprenant à mieux connaître le Régime de retraite du personnel d’encadrement (RRPE). \nSujets abordés\n\nVos sources de revenus à la retraite\nVotre régime de retraite (RRPE)\nAdmissibilité à la rente de retraite\nCalcul de la rente\nCoordination avec le RRQ\nEn cas de décès\nRachat de service\nVotre plan d’action et vos stratégies\n\nFormateur : Jonathan Mercier\nJonathan Mercier est conseiller en sécurité financière spécialisé dans les régimes de retraite du personnel d’encadrement chez Beneva. \nInformations techniques\n→ Coût pour les membres de l’Alliance : Gratuit \n→ Plateforme utilisée : Zoom \n→ Nombre de participants : Minimum 10 – Maximum 100 \n\nINSCRIPTION\nPrintemps 2026 \n\nJeudi 4 juin 2026 –  12 h 15 à 13 h 15\nDate limite d’inscription : 3 juin 2026\n\nJe m’inscris
URL:https://www.alliancedescadres.com/activite-page/regime-de-retraite-le-rrpe-4-juin-2026/
LOCATION:Webinaire
CATEGORIES:Sécurité financière
ORGANIZER;CN="Alliance des cadres de l'%C3%89tat":MAILTO:info@alliancedescadres.com
END:VEVENT
END:VCALENDAR