BEGIN:VCALENDAR
VERSION:2.0
PRODID:-//Alliance des cadres de l&#039;État - ECPv6.15.20//NONSGML v1.0//EN
CALSCALE:GREGORIAN
METHOD:PUBLISH
X-WR-CALNAME:Alliance des cadres de l&#039;État
X-ORIGINAL-URL:https://www.alliancedescadres.com
X-WR-CALDESC:Événements pour Alliance des cadres de l&#039;État
REFRESH-INTERVAL;VALUE=DURATION:PT1H
X-Robots-Tag:noindex
X-PUBLISHED-TTL:PT1H
BEGIN:VTIMEZONE
TZID:America/New_York
BEGIN:DAYLIGHT
TZOFFSETFROM:-0500
TZOFFSETTO:-0400
TZNAME:EDT
DTSTART:20250309T070000
END:DAYLIGHT
BEGIN:STANDARD
TZOFFSETFROM:-0400
TZOFFSETTO:-0500
TZNAME:EST
DTSTART:20251102T060000
END:STANDARD
BEGIN:DAYLIGHT
TZOFFSETFROM:-0500
TZOFFSETTO:-0400
TZNAME:EDT
DTSTART:20260308T070000
END:DAYLIGHT
BEGIN:STANDARD
TZOFFSETFROM:-0400
TZOFFSETTO:-0500
TZNAME:EST
DTSTART:20261101T060000
END:STANDARD
BEGIN:DAYLIGHT
TZOFFSETFROM:-0500
TZOFFSETTO:-0400
TZNAME:EDT
DTSTART:20270314T070000
END:DAYLIGHT
BEGIN:STANDARD
TZOFFSETFROM:-0400
TZOFFSETTO:-0500
TZNAME:EST
DTSTART:20271107T060000
END:STANDARD
END:VTIMEZONE
BEGIN:VEVENT
DTSTART;TZID=America/New_York:20260522T100000
DTEND;TZID=America/New_York:20260522T150000
DTSTAMP:20260425T235334
CREATED:20260206T132110Z
LAST-MODIFIED:20260330T155343Z
UID:10000658-1779444000-1779462000@www.alliancedescadres.com
SUMMARY:Événement Reconnaissance - 22 mai 2026
DESCRIPTION:Places limitées. Événement réservé en priorité aux membres de l’Alliance. \nDESCRIPTION\nL’Événement Reconnaissance : Réseauter\, célébrer et inspirer est une occasion de rencontrer vos pairs et d’échanger avec eux dans un contexte différent de votre quotidien\, de souligner la contribution remarquable des cadres de l’État en présence de divers acteurs de l’administration publique québécoise et de prendre un temps d’arrêt inspirant en lien avec votre rôle de gestionnaire. \nC’est un rendez-vous le vendredi 22 mai 2026\, de 10 h à 15 h\, au Centre des congrès de Québec! \nProgrammation\nRéseautage et visite des kiosques \nSur place : \n\nBeneva\nCaisse Desjardins de l’Administration et des Services publics\nCollège des administrateurs de sociétés\nÉcole nationale d’administration publique\nUniversité Laval\nRevue Gestion\nRetraite Québec\n\nRemise des Prix Reconnaissance 2026 et dîner \nDécouvrez les finalistes! \nConférence : « S’adapter : le point d’ancrage du leadership »\, par Geneviève Desautels \nGels d’embauche\, compressions budgétaires\, changements majeurs en continu\, abolitions de postes\, réorganisations… Ces réalités font partie de ce que vous vivez en tant que gestionnaire\, alors que vous êtes appelé à composer avec différentes orientations ou décisions qui ne relèvent pas toujours de vous. Comment rester engagé et motivé dans de tels contextes ? Comment absorber les nouvelles plus difficiles et s’y adapter\, car il y en aura toujours! \nCette conférence développée pour les membres de l’Alliance\, présentée par Geneviève Desautels\, entrepreneure en développement de la main-d’œuvre\, propose une réflexion concrète sur la manière de conjuguer performance et bien-être\, adaptabilité et leadership responsable\, dans un contexte de turbulence et de complexité croissante. L’adaptabilité y est présentée comme compétence pivot\, incarnée par des gestes courageux : influencer avec rigueur\, accepter des décisions difficiles\, expliquer avec transparence\, accompagner les équipes dans le changement et ajuster sa propre pratique lorsque les repères évoluent. La conférence vise à mettre de l’avant des rituels de gestion applicables et à offrir une compréhension renouvelée de votre rôle de cadre dans la création de valeur publique. \nFondatrice d’Amplio Stratégies\, une entreprise spécialisée dans l’accompagnement stratégique des gestionnaires\, et d’Illuxi\, une plateforme technologique dédiée au développement des compétences\, Geneviève Desautels cumule plus de 30 ans de carrière au cours desquels elle a accompagné des milliers de dirigeants et de professionnels issus d’industries variées. Elle enseigne depuis plus de 20 ans la performance organisationnelle et la gouvernance dans des institutions de renom telles que HEC Montréal\, l’Université d’Ottawa et le Collège des administrateurs de sociétés. Elle est également autrice de trois livres sur le leadership et chroniqueuse en transformation organisationnelle dans plusieurs publications d’affaires. \n\nInformations techniques\n\nGratuit pour les membres de l’Alliance\n115 $ taxes incluses pour les non-membres\, sous réserve des disponibilités (une facture sera transmise ultérieurement)\nCentre des congrès de Québec\n\n\nINSCRIPTION\n\nVendredi 22 mai 2026\, 10 h à 15 h\nDate limite d’inscription : 6 mai 2026\nDate limite d’annulation : 6 mai 2026\n\nJe m’inscris \n \n 
URL:https://www.alliancedescadres.com/activite-page/evenement-reconnaissance-22-mai-2026/
LOCATION:Québec – Centre des congrès de Québec\, 1000\, boulevard René-Lévesque Est\, Québec\, Québec\, G1R 5T8\, Canada
CATEGORIES:Événement Reconnaissance
ORGANIZER;CN="Alliance des cadres de l'%C3%89tat":MAILTO:info@alliancedescadres.com
END:VEVENT
END:VCALENDAR